BEGIN:VCALENDAR
VERSION:2.0
PRODID:-//Reverse The Reptile - ECPv6.15.12.2//NONSGML v1.0//EN
CALSCALE:GREGORIAN
METHOD:PUBLISH
X-WR-CALNAME:Reverse The Reptile
X-ORIGINAL-URL:https://www.reversethereptile.com
X-WR-CALDESC:Events for Reverse The Reptile
REFRESH-INTERVAL;VALUE=DURATION:PT1H
X-Robots-Tag:noindex
X-PUBLISHED-TTL:PT1H
BEGIN:VTIMEZONE
TZID:America/New_York
BEGIN:DAYLIGHT
TZOFFSETFROM:-0500
TZOFFSETTO:-0400
TZNAME:EDT
DTSTART:20240310T070000
END:DAYLIGHT
BEGIN:STANDARD
TZOFFSETFROM:-0400
TZOFFSETTO:-0500
TZNAME:EST
DTSTART:20241103T060000
END:STANDARD
BEGIN:DAYLIGHT
TZOFFSETFROM:-0500
TZOFFSETTO:-0400
TZNAME:EDT
DTSTART:20250309T070000
END:DAYLIGHT
BEGIN:STANDARD
TZOFFSETFROM:-0400
TZOFFSETTO:-0500
TZNAME:EST
DTSTART:20251102T060000
END:STANDARD
BEGIN:DAYLIGHT
TZOFFSETFROM:-0500
TZOFFSETTO:-0400
TZNAME:EDT
DTSTART:20260308T070000
END:DAYLIGHT
BEGIN:STANDARD
TZOFFSETFROM:-0400
TZOFFSETTO:-0500
TZNAME:EST
DTSTART:20261101T060000
END:STANDARD
END:VTIMEZONE
BEGIN:VEVENT
DTSTART;VALUE=DATE:20250514
DTEND;VALUE=DATE:20250517
DTSTAMP:20260421T045225
CREATED:20250729T152050Z
LAST-MODIFIED:20250903T182147Z
UID:333-1747180800-1747439999@www.reversethereptile.com
SUMMARY:The Gavel Claims Convention™ 2025: Deposition Preparation in the Age of Nuclear Verdicts presented by Robin Jackson-Bernhardt
DESCRIPTION:At the 2025 Gavel Claims Convention\, Reverse the Reptile co-founder Robin Jackson-Bernhardt delivered an insightful presentation titled “Deposition Preparation in the Age of Nuclear Verdicts.” Robin provided an in-depth overview of the Edge Method—a rising plaintiff strategy that is even more psychologically complex and damaging than Reptile Theory. She also explored the cognitive effects of triggering the brain’s primitive survival mechanisms during testimony\, and how such activation can compromise witness credibility. The session offered practical\, neuroscience-informed strategies to prepare witnesses for high-pressure testimony and guard against plaintiff tactics designed to provoke fear-based responses.
URL:https://www.reversethereptile.com/event/the-gavel-claims-convention-2025-deposition-preparation-in-the-age-of-nuclear-verdicts-presented-by-robin-jackson-bernhardt/
ATTACH;FMTTYPE=image/jpeg:https://www.reversethereptile.com/wp-content/uploads/2025/07/The-Gavel-Claims-Convention-EVENT-THUMBNAIL.jpg
END:VEVENT
END:VCALENDAR